BEGIN:VCALENDAR
VERSION:2.0
PRODID:-//ox.ac.uk//NONSGML oxford.event//EN
X-WR-TIMEZONE:Europe/London
BEGIN:VTIMEZONE
TZID:Europe/London
X-LIC-LOCATION:Europe/London
BEGIN:DAYLIGHT
DTSTART;VALUE=DATE-TIME:19700329T010000
RRULE:FREQ=YEARLY;BYDAY=-1SU;BYMONTH=3
TZNAME:BST
TZOFFSETFROM:+0000
TZOFFSETTO:+0100
END:DAYLIGHT
BEGIN:STANDARD
DTSTART;VALUE=DATE-TIME:19701025T020000
RRULE:FREQ=YEARLY;BYDAY=-1SU;BYMONTH=10
TZNAME:GMT
TZOFFSETFROM:+0100
TZOFFSETTO:+0000
END:STANDARD
END:VTIMEZONE
BEGIN:VEVENT
SUMMARY:From the Laboratory to the Clinic 2026: Complex pathogenesis of di
 sease
DTSTART;TZID=Europe/London;VALUE=DATE-TIME:20260901T130000
DTEND;TZID=Europe/London;VALUE=DATE-TIME:20260904T130000
DTSTAMP;VALUE=DATE-TIME:20260422T092431Z
UID:3a0afa48af3e47d38286368015e1e3fd
CATEGORIES:conference
CATEGORIES:meeting
CONTACT:labtoclinic@kennedy.ox.ac.uk
CREATED;VALUE=DATE-TIME:20251205T111150Z
DESCRIPTION:This annual conference\, designed to foster translational rese
 arch\, was established in 1984 and is organised by an international commit
 tee of renowned Immunologists.
LAST-MODIFIED;VALUE=DATE-TIME:20260309T122932Z
END:VEVENT
END:VCALENDAR
